BEGIN:VCALENDAR
VERSION:2.0
PRODID:-//ChamberMaster//Event Calendar 2.0//EN
METHOD:PUBLISH
X-PUBLISHED-TTL:P3D
REFRESH-INTERVAL:P3D
CALSCALE:GREGORIAN
BEGIN:VEVENT
DTSTART:20140131T050000Z
DTEND:20140131T080000Z
X-MICROSOFT-CDO-ALLDAYEVENT:FALSE
SUMMARY:MUSE Crab Feed Fundraiser
DESCRIPTION:All you can eat Crab Feed\, a benefit for Mendocino Unified School Enrichment (MUSE). Featuring a no-host bar\, dessert auction\, and special guest appearance by the Mendocino High School Improv Club. $50 per person. For ticket reservations\, call (707) 937-5942.
X-ALT-DESC;FMTTYPE=text/html:<p>All you can eat Crab Feed\, a benefit for Mendocino Unified School Enrichment (MUSE). Featuring a no-host bar\, dessert auction\, and special guest appearance by the Mendocino High School Improv Club. $50 per person. For ticket reservations\, call (707) 937-5942.</p>
LOCATION:Abalone Hall\, Little River Inn Mendocino
UID:e.2883.75
SEQUENCE:3
DTSTAMP:20260423T145728Z
URL:https://mendocinocoast.com/events/details/muse-crab-feed-fundraiser-01-30-2014-75
END:VEVENT

END:VCALENDAR
