BEGIN:VCALENDAR
VERSION:2.0
PRODID:-//ChamberMaster//Event Calendar 2.0//EN
METHOD:PUBLISH
X-PUBLISHED-TTL:P3D
REFRESH-INTERVAL:P3D
CALSCALE:GREGORIAN
BEGIN:VEVENT
DTSTART;VALUE=DATE:20150908
DTEND;VALUE=DATE:20150909
TRANSP:TRANSPARENT
X-MICROSOFT-CDO-ALLDAYEVENT:TRUE
SUMMARY:MUSE Crab Feed
DESCRIPTION:Mendocino Unified School Enrichment's(MUSE)\, 3rd Annual Crab Feed! Â Friday\, January 22nd\, 2016\, 6PM at the Little River Inn's Abalone Hall. Â Come enjoy the most delicious crab ever\, while being entertained by the Mendocino High School's Improv Club. Â This event sell's out quickly\, please call the Little River Inn at 707-937-5942\, for more information and to purchase tickets.
X-ALT-DESC;FMTTYPE=text/html:<p>Mendocino Unified School Enrichment's(MUSE)\, 3rd Annual Crab Feed! Â Friday\, January 22nd\, 2016\, 6PM at the Little River Inn's Abalone Hall. Â Come enjoy the most delicious crab ever\, while being entertained by the Mendocino High School's Improv Club. Â This event sell's out quickly\, please call the Little River Inn at 707-937-5942\, for more information and to purchase tickets.</p>
LOCATION:Little River Inn
UID:e.2883.727
SEQUENCE:3
DTSTAMP:20260422T032751Z
URL:https://mendocinocoast.com/events/details/muse-crab-feed-09-08-2015-727
END:VEVENT

END:VCALENDAR
