BEGIN:VCALENDAR
VERSION:2.0
PRODID:-//ChamberMaster//Event Calendar 2.0//EN
METHOD:PUBLISH
X-PUBLISHED-TTL:P3D
REFRESH-INTERVAL:P3D
CALSCALE:GREGORIAN
BEGIN:VEVENT
DTSTART:20140712T190000Z
DTEND:20140712T230000Z
X-MICROSOFT-CDO-ALLDAYEVENT:FALSE
SUMMARY:MUSE BBQ at the MacCallum House
DESCRIPTION:Sunday August 31st\, 12-4. Family friendly event\, featuring live music\, face painting\, sausage BBQ\, beer\, wine and ice cream! (cost of items $1-$5). Â All of this on the beautiful lawn at the MacCallum House in Mendocino\, proceeds to benefit Mendocino Unified School Enrichment program.
X-ALT-DESC;FMTTYPE=text/html:<p><blockquote><blockquote><span style="font-family: Verdana\, Helvetica\, Arial\;"><span><span style="color: #0000ff\;">Sunday August 31st\, 12-4. Family friendly event\, featuring live music\, face painting\, sausage BBQ\, beer\, wine and ice cream! (cost of items $1-$5). Â All of this on the beautiful lawn at the MacCallum House in Mendocino\, proceeds to benefit Mendocino Unified School Enrichment program.</span></span></span></blockquote></blockquote></p>
LOCATION:MacCallum House Mendocino
UID:e.2883.290
SEQUENCE:3
DTSTAMP:20260423T040740Z
URL:https://mendocinocoast.com/events/details/muse-bbq-at-the-maccallum-house-07-12-2014-290
END:VEVENT

END:VCALENDAR
