BEGIN:VCALENDAR
VERSION:2.0
PRODID:-//ChamberMaster//Event Calendar 2.0//EN
METHOD:PUBLISH
X-PUBLISHED-TTL:P3D
REFRESH-INTERVAL:P3D
CALSCALE:GREGORIAN
BEGIN:VEVENT
DTSTART:20140218T050000Z
DTEND:20140218T080000Z
X-MICROSOFT-CDO-ALLDAYEVENT:FALSE
SUMMARY:MTC Presents Other Desert Cities
DESCRIPTION:Other Desert Cities plays at the Mendocino Theatre Company at 45200 Little Lake St. in Mendocino from February 27th through April 6th\, Thursdays-Saturdays at 8:00 p.m.\, and 2:00 p.m. on selected Sundays.\nOther Desert Cities is performed with the sardonic comedic tone that perfectly captures the uniquely American affair of spending the holidays with family. This gripping and well-respected new play features the talents of Michelle Raust\, Sandra Hawthorne\, Steve Jordan\, Adam David Jones\, and Toni Orans.\nFor tickets or more information\, please contact the Mendocino Theatre Company Box Office at 707-937-4477\, or go to mendocinotheatre.org
X-ALT-DESC;FMTTYPE=text/html:<p><br />Other Desert Cities plays at the Mendocino Theatre Company at 45200 Little Lake St. in Mendocino from <strong>February 27th through April 6th</strong>\, <strong>Thursdays-Saturdays at 8:00 p.m.\, and 2:00 p.m</strong>. on selected Sundays.<br />Other Desert Cities is performed with the sardonic comedic tone that perfectly captures the uniquely American affair of spending the holidays with family. This gripping and well-respected new play features the talents of Michelle Raust\, Sandra Hawthorne\, Steve Jordan\, Adam David Jones\, and Toni Orans.<br />For tickets or more information\, please contact the Mendocino Theatre Company Box Office at 707-937-4477\, or go to <a href="mendocinotheatre.org">mendocinotheatre.org </a><br /><br /><br /><br /></p>
LOCATION:Mendocino Theatre Company at 45200 Little Lake St
UID:e.2883.134
SEQUENCE:3
DTSTAMP:20260423T144958Z
URL:https://mendocinocoast.com/events/details/mtc-presents-other-desert-cities-02-17-2014-134
END:VEVENT

END:VCALENDAR
