BEGIN:VCALENDAR
VERSION:2.0
PRODID:-//ChamberMaster//Event Calendar 2.0//EN
METHOD:PUBLISH
X-PUBLISHED-TTL:P3D
REFRESH-INTERVAL:P3D
CALSCALE:GREGORIAN
BEGIN:VEVENT
DTSTART:20150219T210000Z
DTEND:20150220T000000Z
X-MICROSOFT-CDO-ALLDAYEVENT:FALSE
SUMMARY:More Jazz on the Lawn
DESCRIPTION:MORE JAZZ ON THE LAWN\nSaturday\, July 4\, 1 pm â€“ 4 pm\nFree AdmissionThe Mendocino Coast Jazz Society and the Mendocino Art Center are bringing back Jazz on the Lawn\, a raucous\, well-attended and crowd pleasing event\, with The Swinginâ€™ Boonville Big Band\, led by Bob Ayres.Celebrate the 4th of July weekend while enjoying the music and dancing! There will also be a barbecue\, soft drinks\, beer and wine.
X-ALT-DESC;FMTTYPE=text/html:<p><span>MORE JAZZ ON THE LAWN</span><br /><span>Saturday\, July 4\, 1 pm â€“ 4 pm<br />Free Admission</span></p><p>The Mendocino Coast Jazz Society and the Mendocino Art Center are bringing back Jazz on the Lawn\, a raucous\, well-attended and crowd pleasing event\, with The Swinginâ€™ Boonville Big Band\, led by Bob Ayres.</p><p>Celebrate the 4th of July weekend while enjoying the music and dancing! There will also be a barbecue\, soft drinks\, beer and wine.</p><p><span><br /></span></p>
LOCATION:Mendocino Art Center Mendocino CA
UID:e.2883.533
SEQUENCE:3
DTSTAMP:20260422T163714Z
URL:https://mendocinocoast.com/events/details/more-jazz-on-the-lawn-02-19-2015-533
END:VEVENT

END:VCALENDAR
