BEGIN:VCALENDAR
VERSION:2.0
PRODID:-//ChamberMaster//Event Calendar 2.0//EN
METHOD:PUBLISH
X-PUBLISHED-TTL:P3D
REFRESH-INTERVAL:P3D
CALSCALE:GREGORIAN
BEGIN:VEVENT
DTSTART:20150101T030100Z
DTEND:20141231T100000Z
X-MICROSOFT-CDO-ALLDAYEVENT:FALSE
SUMMARY:Moonlight and Love Songs
DESCRIPTION:Tonight Flow\, (Located Main Street Mendocino beside the Â Water Tower )presents Zida and Ira vocals and piano. The music starts at 7. What more can you want on a clear\, cool night in Mendocino but the moonlit ocean\, a full bar and great food. Reservations recommended 937-3569
X-ALT-DESC;FMTTYPE=text/html:<p>Tonight Flow\, (Located Main Street Mendocino beside the Â Water Tower )presents Zida and Ira vocals and piano. The music starts at 7. What more can you want on a clear\, cool night in Mendocino but the moonlit ocean\, a full bar and great food. Reservations recommended 937-3569</p>
LOCATION:Flow Restaurant Mendocino
UID:e.2883.427
SEQUENCE:3
DTSTAMP:20260422T181912Z
URL:https://mendocinocoast.com/events/details/moonlight-and-love-songs-12-31-2014-427
END:VEVENT

END:VCALENDAR
