BEGIN:VCALENDAR
VERSION:2.0
PRODID:-//ChamberMaster//Event Calendar 2.0//EN
METHOD:PUBLISH
X-PUBLISHED-TTL:P3D
REFRESH-INTERVAL:P3D
CALSCALE:GREGORIAN
BEGIN:VEVENT
DTSTART:20160107T210000Z
DTEND:20160108T010100Z
X-MICROSOFT-CDO-ALLDAYEVENT:FALSE
SUMMARY:MLK Interactive Art Opportunities
DESCRIPTION:Making Space: A Community Celebrationâ€ is Flockworksâ€™s â€œAnnual Commuinty Reportâ€ with more than 80 participants of all ages involved in a rich and diverse show.Â  Masks\, creatures and paintings from Mendocino k-8 students\, the Ocean Celebration with The Noyo Center for Marine Science\, Printers Magic\, Box Art\, Shelter Coveâ€™s Creative Classroom and other guest artists.This show will also include interactive opportunities\, called â€œMake It Daysâ€ with hands-on printmaking\, fish prints and other art-making on Sunday\, Jan. 17 from 12pm â€“ 4pm and Monday\, Jan. 18 from 12pm â€“ 4pm. A fun time for the whole family.
X-ALT-DESC;FMTTYPE=text/html:<p><blockquote><div><div lang="EN-US"><div><div>Making Space: A Community Celebrationâ€ is Flockworksâ€™s â€œAnnual Commuinty Reportâ€ with more than 80 participants of all ages involved in a rich and diverse show.Â  Masks\, creatures and paintings from Mendocino k-8 students\, the Ocean Celebration with The Noyo Center for Marine Science\, Printers Magic\, Box Art\, Shelter Coveâ€™s Creative Classroom and other guest artists.<blockquote><div><div lang="EN-US"><div><div>This show will also include interactive opportunities\, called â€œMake It Daysâ€ with hands-on printmaking\, fish prints and other art-making on Sunday\, Jan. 17 from 12pm â€“ 4pm and Monday\, Jan. 18 from 12pm â€“ 4pm. A fun time for the whole family.</div></div></div></div></blockquote><div><div><div lang="EN-US"><div></div></div></div></div></div></div></div></div></blockquote></p>
LOCATION:Odd fellows Hall Kastan St Mendocino
UID:e.2883.824
SEQUENCE:3
DTSTAMP:20260421T205929Z
URL:https://mendocinocoast.com/events/details/mlk-interactive-art-opportunities-01-07-2016-824
END:VEVENT

END:VCALENDAR
