BEGIN:VCALENDAR
VERSION:2.0
PRODID:-//ChamberMaster//Event Calendar 2.0//EN
METHOD:PUBLISH
X-PUBLISHED-TTL:P3D
REFRESH-INTERVAL:P3D
CALSCALE:GREGORIAN
BEGIN:VEVENT
DTSTART:20150128T050000Z
DTEND:20150128T070000Z
X-MICROSOFT-CDO-ALLDAYEVENT:FALSE
SUMMARY:Mick Overman at MacCallum House
DESCRIPTION:Friday Night Live Music @ the Grey Whale Bar\, MacCallum House.\nPrepare to be entertained with acoustic folk & rock performed by the inimitable Mick Overman\; show starts at 8 pm. While you're here\, belly up to the bar for the best food and drink in town.
X-ALT-DESC;FMTTYPE=text/html:<p>Friday Night Live Music @ the Grey Whale Bar\, MacCallum House.<br />Prepare to be entertained with acoustic folk &amp\; rock performed by the inimitable Mick Overman\; show starts at 8 pm. While you're here\, belly up to the bar for the best food and drink in town.</p>
LOCATION:MacCallum House Mendocino\, CA
UID:e.2883.465
SEQUENCE:3
DTSTAMP:20260422T163815Z
URL:https://mendocinocoast.com/events/details/mick-overman-at-maccallum-house-01-27-2015-465
END:VEVENT

END:VCALENDAR
