BEGIN:VCALENDAR
VERSION:2.0
PRODID:-//ChamberMaster//Event Calendar 2.0//EN
METHOD:PUBLISH
X-PUBLISHED-TTL:P3D
REFRESH-INTERVAL:P3D
CALSCALE:GREGORIAN
BEGIN:VEVENT
DTSTART:20140916T180300Z
DTEND:20140916T220100Z
X-MICROSOFT-CDO-ALLDAYEVENT:FALSE
SUMMARY:Meyer Harvest Party
DESCRIPTION:Harvest kicked off a bit early this year which means we are knee deep in grapes and readying ourselves for our Annual Harvest Party!Â  We are releasing five new vintages of our favorite wines!Join us in celebrating these delectable vintages and raise a glass to the 2014 Harvest!Â  Take a winemaker-lead cellar tour with Matt and Karen Meyer to see the active ferments first hand and grab a barrel sample of our 2014 Dry RosÃ© of Syrah.Jay Newcomer\, in-house gourmet guru\, will be manning the wood-fired oven and cooking up some out-of-this-word pulled pork\, fire-roasted beef tenderloin and of course\, pizzas . A dog and child friendly event!More information at www.mfcellars.com/events or 707.895.2341.Â
X-ALT-DESC;FMTTYPE=text/html:<p>Harvest kicked off a bit early this year which means we are knee deep in grapes and readying ourselves for our Annual Harvest Party!Â  We are releasing five new vintages of our favorite wines!</p><p>Join us in celebrating these delectable vintages and raise a glass to the 2014 Harvest!Â  Take a winemaker-lead cellar tour with Matt and Karen Meyer to see the active ferments first hand and grab a barrel sample of our 2014 Dry RosÃ© of Syrah.</p><p>Jay Newcomer\, in-house gourmet guru\, will be manning the wood-fired oven and cooking up some out-of-this-word pulled pork\, fire-roasted beef tenderloin and of course\, pizzas . A dog and child friendly event!</p><p>More information at <a href="http://www.mfcellars.com/events"><span>www.mfcellars.com/events</span></a> or 707.895.2341.</p><p>Â </p>
LOCATION:Meyer Family Cellars Boonville
UID:e.2883.331
SEQUENCE:3
DTSTAMP:20260422T231721Z
URL:https://mendocinocoast.com/events/details/meyer-harvest-party-09-16-2014-331
END:VEVENT

END:VCALENDAR
