BEGIN:VCALENDAR
VERSION:2.0
PRODID:-//ChamberMaster//Event Calendar 2.0//EN
METHOD:PUBLISH
X-PUBLISHED-TTL:P3D
REFRESH-INTERVAL:P3D
CALSCALE:GREGORIAN
BEGIN:VEVENT
DTSTART:20150411T190000Z
DTEND:20150412T000000Z
X-MICROSOFT-CDO-ALLDAYEVENT:FALSE
SUMMARY:Mendocino Women's Choir Silent Auction
DESCRIPTION:Mendocino Womenâ€™s ChoirSilent Auction Saturday May 16th 2015Saint Michaels Episcopal Church (12-5pm)Franklin and Pine St. Fort Bragg\, Ca.Our choir is again planning a trip out of the country to sing in cathedrals and many other wonderful locations. We will be doing a silent auction to raise funds for this venture and hope to see you there.$5.00 at the door gives you a glass of wine or other beverage and delicious munchies\, some from our cookbook. Entertainment is also provided by the choir.Come enjoy the afternoon with us.If you would like to donate to our auction please call Roberta Morrow 964-3752
X-ALT-DESC;FMTTYPE=text/html:<p>Mendocino Womenâ€™s Choir</p><p>Silent Auction Saturday May 16th 2015</p><p>Saint Michaels Episcopal Church (12-5pm)</p><p>Franklin and Pine St. Fort Bragg\, Ca.</p><p>Our choir is again planning a trip out of the country to sing in cathedrals and many other wonderful locations. We will be doing a silent auction to raise funds for this venture and hope to see you there.</p><p>$5.00 at the door gives you a glass of wine or other beverage and delicious munchies\, some from our cookbook. Entertainment is also provided by the choir.</p><p>Come enjoy the afternoon with us.</p><p>If you would like to donate to our auction please call Roberta Morrow 964-3752</p>
LOCATION:St. Michaels Episcopal Church Fort Bragg\, CA
UID:e.2883.596
SEQUENCE:3
DTSTAMP:20260422T115254Z
URL:https://mendocinocoast.com/events/details/mendocino-women-s-choir-silent-auction-04-11-2015-596
END:VEVENT

END:VCALENDAR
