BEGIN:VCALENDAR
VERSION:2.0
PRODID:-//ChamberMaster//Event Calendar 2.0//EN
METHOD:PUBLISH
X-PUBLISHED-TTL:P3D
REFRESH-INTERVAL:P3D
CALSCALE:GREGORIAN
BEGIN:VEVENT
DTSTART;VALUE=DATE:20140227
DTEND;VALUE=DATE:20140228
TRANSP:TRANSPARENT
X-MICROSOFT-CDO-ALLDAYEVENT:TRUE
SUMMARY:Mendocino Whale Festival 2014
DESCRIPTION:Mendocino Whale Festival 2014. Point Cabrillo Light Station lantern room tours\, tower tours and lantern gallery tours. 10:00 am to 4:00 pm $5.00 per person. Children welcome (42 inches and taller please) 13800 Point Cabrillo Drive. Mendocino\, Ca 95460.Â www.pointcabrillo.org
X-ALT-DESC;FMTTYPE=text/html:<p>Mendocino Whale Festival 2014. Point Cabrillo Light Station lantern room tours\, tower tours and lantern gallery tours. 10:00 am to 4:00 pm $5.00 per person. Children welcome (42 inches and taller please) 13800 Point Cabrillo Drive. Mendocino\, Ca 95460.Â <a href="http://www.pointcabrillo.org">www.pointcabrillo.org</a></p>
LOCATION:Point Cabrillo Light Station Mendocino
UID:e.2883.157
SEQUENCE:3
DTSTAMP:20260423T131841Z
URL:https://mendocinocoast.com/events/details/mendocino-whale-festival-2014-02-27-2014-157
END:VEVENT

END:VCALENDAR
