BEGIN:VCALENDAR
VERSION:2.0
PRODID:-//ChamberMaster//Event Calendar 2.0//EN
METHOD:PUBLISH
X-PUBLISHED-TTL:P3D
REFRESH-INTERVAL:P3D
CALSCALE:GREGORIAN
BEGIN:VEVENT
DTSTART;VALUE=DATE:20150611
DTEND;VALUE=DATE:20150612
TRANSP:TRANSPARENT
X-MICROSOFT-CDO-ALLDAYEVENT:TRUE
SUMMARY:Mendocino Whale Festival
DESCRIPTION:Whale festival in mendocino
X-ALT-DESC;FMTTYPE=text/html:<p>Whale festival in mendocino</p>
LOCATION:Town of Mendocino
UID:e.2883.640
SEQUENCE:3
DTSTAMP:20260422T082753Z
URL:https://mendocinocoast.com/events/details/mendocino-whale-festival-06-11-2015-640
END:VEVENT

END:VCALENDAR
