BEGIN:VCALENDAR
VERSION:2.0
PRODID:-//ChamberMaster//Event Calendar 2.0//EN
METHOD:PUBLISH
X-PUBLISHED-TTL:P3D
REFRESH-INTERVAL:P3D
CALSCALE:GREGORIAN
BEGIN:VEVENT
DTSTART:20140301T200000Z
DTEND:20140302T020000Z
X-MICROSOFT-CDO-ALLDAYEVENT:FALSE
SUMMARY:Mendocino Whale Festival
DESCRIPTION:Wine tasting\, chowder tasting\, wildlife exhibits\, plein-air artist display and more throughout Mendocino. Special lens tours at Point Cabrillo Light and docents will Â help with your questions about the Lights history and help you with Whale sighting. Don't miss the Marine Life Exhibit at the Mendocino Art Center. Meet at the Ford House Mendocino for Â Whale Watch walks Â 11:00 am both Saturday and Sunday.Chowder Tasting at Crown Hall at 11:00\,Saturday March1 Wine tasting begins at 1:00pm Saturday. Tickets can be bought on line at Brown Paper Tickets\,also ahead of time at Out of this World in Mendocino.Â Centers for picking up glasses and sales will be Crown Hall and the Ford House Much more information at www.MendoWhale.com
X-ALT-DESC;FMTTYPE=text/html:<p><strong>Wine tasting\, chowder tasting\, wildlife exhibits\, plein-air artist display and more throughout Mendocino.</strong> Special lens tours at<strong><span style="color: #003300\;"> Point Cabrillo Light</span></strong> and docents will Â help with your questions about the Lights history and help you with Whale sighting. Don't miss the Marine Life Exhibit at the<strong><span style="color: #003300\;"> Mendocino Art Center</span></strong>. Meet at the <strong><span style="color: #003300\;">Ford House</span></strong> Mendocino for Â Whale Watch walks Â 11:00 am both Saturday and Sunday.Chowder Tasting at <strong>Crown Hall</strong> at 11:00\,Saturday March1 Wine tasting begins at 1:00pm Saturday. Tickets can be bought on line at</p><p><a href="http://www.brownpapertickets.com/event/557958"> Brown Paper Tickets</a>\,also ahead of time at<strong><span style="color: #003300\;"> Out of this</span> <span style="color: #003300\;">World</span></strong> in Mendocino.Â Centers for picking up glasses and sales will be <strong><span style="color: #003300\;">Crown Hall</span></strong> and the <strong><span style="color: #003300\;">Ford House</span></strong> Much more information at <a href="http://www.mendowhale.com">www.MendoWhale.com</a></p>
LOCATION:Mendocino
UID:e.2883.74
SEQUENCE:3
DTSTAMP:20260423T113828Z
URL:https://mendocinocoast.com/events/details/mendocino-whale-festival-03-01-2014-74
END:VEVENT

END:VCALENDAR
