BEGIN:VCALENDAR
VERSION:2.0
PRODID:-//ChamberMaster//Event Calendar 2.0//EN
METHOD:PUBLISH
X-PUBLISHED-TTL:P3D
REFRESH-INTERVAL:P3D
CALSCALE:GREGORIAN
BEGIN:VEVENT
DTSTART:20150206T200000Z
DTEND:20150206T220000Z
X-MICROSOFT-CDO-ALLDAYEVENT:FALSE
SUMMARY:Mendocino Walking Tours
DESCRIPTION:Join Kelley House docents for a stroll around the historic village of Mendocino\, passing by early pioneer homes\, historic meeting places and buildings that make up the National Historic District every Saturday and Sunday at 11 am. Tours begin at the Kelley House Museum (45007 Albion Street\, Mendocino)\, and last about 2 hours. Cost: $10 per person.Self-guided audio tours are available for rent 7 days a week. The audio tour can be rented for $10 .For more information\, please call 707-937-5791 or go toÂ www.kelleyhousemuseum.org
X-ALT-DESC;FMTTYPE=text/html:<p>Join Kelley House docents for a stroll around the historic village of Mendocino\, passing by early pioneer homes\, historic meeting places and buildings that make up the National Historic District every Saturday and Sunday at 11 am. Tours begin at the Kelley House Museum (45007 Albion Street\, Mendocino)\, and last about 2 hours. Cost: $10 per person.</p><p>Self-guided audio tours are available for rent 7 days a week. The audio tour can be rented for $10 .</p><p>For more information\, please call 707-937-5791 or go toÂ <a href="http://www.kelleyhousemuseum.org" target="_blank">www.kelleyhousemuseum.org</a></p>
LOCATION:Kelley House Museum Mendocino\, CA
UID:e.2883.508
SEQUENCE:3
DTSTAMP:20260422T163429Z
URL:https://mendocinocoast.com/events/details/mendocino-walking-tours-02-06-2015-508
END:VEVENT

END:VCALENDAR
