BEGIN:VCALENDAR
VERSION:2.0
PRODID:-//ChamberMaster//Event Calendar 2.0//EN
METHOD:PUBLISH
X-PUBLISHED-TTL:P3D
REFRESH-INTERVAL:P3D
CALSCALE:GREGORIAN
BEGIN:VEVENT
DTSTART:20151023T180000Z
DTEND:20151023T230000Z
X-MICROSOFT-CDO-ALLDAYEVENT:FALSE
SUMMARY:Mendocino Study Club's 38th Annual Country Christmas Holiday Bazaar
DESCRIPTION:Handmade items\, baked goods\, candy and pantry items\, pine cone bird feeders and a raffle. Proceeds will provide college scholarships for both Fort Bragg and Mendocino high school seniors\, as well as support for the Mendocino Community Library.
X-ALT-DESC;FMTTYPE=text/html:<p>Handmade items\, baked goods\, candy and pantry items\, pine cone bird feeders and a raffle. Proceeds will provide college scholarships for both Fort Bragg and Mendocino high school seniors\, as well as support for the Mendocino Community Library.</p>
LOCATION:Presbyterian Church's Preston Hall on Main Street Mendocino
UID:e.2883.769
SEQUENCE:3
DTSTAMP:20260422T015945Z
URL:https://mendocinocoast.com/events/details/mendocino-study-club-s-38th-annual-country-christmas-holiday-bazaar-10-23-2015-769
END:VEVENT

END:VCALENDAR
