BEGIN:VCALENDAR
VERSION:2.0
PRODID:-//ChamberMaster//Event Calendar 2.0//EN
METHOD:PUBLISH
X-PUBLISHED-TTL:P3D
REFRESH-INTERVAL:P3D
CALSCALE:GREGORIAN
BEGIN:VEVENT
DTSTART:20151006T203000Z
DTEND:20151006T213000Z
X-MICROSOFT-CDO-ALLDAYEVENT:FALSE
SUMMARY:Mendocino Study Club
DESCRIPTION:The mendocino Study Club will hear from BArbara Auerbach how she and a small community of volunteers have begun a program called The Circle of Horses for children with disabilities. Become an equine enthusiast when you see the magical effect that horses have on individulas with disabilities.
X-ALT-DESC;FMTTYPE=text/html:<p>The mendocino Study Club will hear from BArbara Auerbach how she and a small community of volunteers have begun a program called The Circle of Horses for children with disabilities. Become an equine enthusiast when you see the magical effect that horses have on individulas with disabilities.</p>
LOCATION:Preston Hall Fort Bragg
UID:e.2883.744
SEQUENCE:3
DTSTAMP:20260422T014659Z
URL:https://mendocinocoast.com/events/details/mendocino-study-club-10-06-2015-744
END:VEVENT

END:VCALENDAR
