BEGIN:VCALENDAR
VERSION:2.0
PRODID:-//ChamberMaster//Event Calendar 2.0//EN
METHOD:PUBLISH
X-PUBLISHED-TTL:P3D
REFRESH-INTERVAL:P3D
CALSCALE:GREGORIAN
BEGIN:VEVENT
DTSTART:20141211T040300Z
DTEND:20141211T050300Z
X-MICROSOFT-CDO-ALLDAYEVENT:FALSE
SUMMARY:Mendocino School District Christmas Choir Concert
DESCRIPTION:Mendocino School District Christmas Choir ConcertWednesday\, December 17 at 7 pm at Cotton Auditorium\, 500 North Harold Street\, Fort Bragg$6 suggested donation.Â  www.mendochoirs.org for more informationMendocino Middle School Choir won a gold medal at the New York Heritage Festival last Spring.Â  Support Music in our Schools
X-ALT-DESC;FMTTYPE=text/html:<p>Mendocino School District Christmas Choir Concert</p><p>Wednesday\, December 17 at 7 pm at Cotton Auditorium\, 500 North Harold Street\, Fort Bragg</p><p>$6 suggested donation.Â  <a href="http://r20.rs6.net/tn.jsp?f=001Dqu6AyCuVMuIriDB0xZPn2c_SHJfFoWeALnM1CgNPeKoXuDnNCi2YCJBeu_cCQFHxEnNzd32rHywuE-7arkJjOV8z7brL4f6IxDTeFqmlzuEVwSX9iQZLAaKuLRHh1CtJBGvw26qeuyPPP9iLtmYW977GIQpR5yOj9C-s-oEavNFj0nOX7BxiA==&amp\;c=nltpT4A7C55VytOSrg_IfjspGuX6wi2TGxUgYlO402PHB7ryxM4AgQ==&amp\;ch=qrZrs13qgi5kWG-N-n5YXb82QT5LKeIt5AYQDowH_wFrz8v79ib26g==">www.mendochoirs.org</a> for more information</p><p>Mendocino Middle School Choir won a gold medal at the New York Heritage Festival last Spring.Â  Support Music in our Schools</p>
LOCATION:Cotton Auditorium Fort Bragg CA
UID:e.2883.400
SEQUENCE:3
DTSTAMP:20260422T182157Z
URL:https://mendocinocoast.com/events/details/mendocino-school-district-christmas-choir-concert-12-10-2014-400
END:VEVENT

END:VCALENDAR
