BEGIN:VCALENDAR
VERSION:2.0
PRODID:-//ChamberMaster//Event Calendar 2.0//EN
METHOD:PUBLISH
X-PUBLISHED-TTL:P3D
REFRESH-INTERVAL:P3D
CALSCALE:GREGORIAN
BEGIN:VEVENT
DTSTART:20160329T130000Z
DTEND:20160329T160000Z
X-MICROSOFT-CDO-ALLDAYEVENT:FALSE
SUMMARY:Mendocino Progressive Dinner
DESCRIPTION:Make plans to attend the 8th annual Mendocino Progressive Dinner in Mendocino Saturday May 7th\, 2016. We will start with appetizers at 6pm at the Odd Fellows Hall. Then progress to the Mendocino Hotel at 7pm for salad and entree. At 8pm there will be dessert and a silent auction at the Ford House. All courses will be paired with fine Anderson Valley wines. Benefits for MAPA's Mendocino Headlands State Park improvement project: renovation of the Mendocino public restrooms and carpet replacement in the Ford House Visitor Center and Museum. Ticket purchases and information @ www.mendoparks.org or call the Ford House at 707-937-5397
X-ALT-DESC;FMTTYPE=text/html:<p>Make plans to attend the 8th annual Mendocino Progressive Dinner in Mendocino Saturday May 7th\, 2016. We will start with appetizers at 6pm at the Odd Fellows Hall. Then progress to the Mendocino Hotel at 7pm for salad and entree. At 8pm there will be dessert and a silent auction at the Ford House. All courses will be paired with fine Anderson Valley wines. Benefits for MAPA's Mendocino Headlands State Park improvement project: renovation of the Mendocino public restrooms and carpet replacement in the Ford House Visitor Center and Museum. Ticket purchases and information @ www.mendoparks.org or call the Ford House at 707-937-5397</p>
LOCATION:Ford House Visitor Center and Museum Mendocino
UID:e.2883.904
SEQUENCE:3
DTSTAMP:20260421T173044Z
URL:https://mendocinocoast.com/events/details/mendocino-progressive-dinner-03-29-2016-904
END:VEVENT

END:VCALENDAR
