BEGIN:VCALENDAR
VERSION:2.0
PRODID:-//ChamberMaster//Event Calendar 2.0//EN
METHOD:PUBLISH
X-PUBLISHED-TTL:P3D
REFRESH-INTERVAL:P3D
CALSCALE:GREGORIAN
BEGIN:VEVENT
DTSTART:20150219T180000Z
DTEND:20150220T020000Z
X-MICROSOFT-CDO-ALLDAYEVENT:FALSE
SUMMARY:Mendocino Open Paint Out - A Plein Air Festival
DESCRIPTION:MENDOCINO OPEN PAINT OUT â€“ A PLEIN AIR FESTIVAL\nSeptember 7â€“12The Mendocino Art Center hosts the third Mendocino Open Paint Out\, a plein air festival. The festival includes plein air painting\, with wet paint sales each day in the Art Center's galleries\, daily demonstrations and presentations\, and the opportunity to watch celebrity artists paint outdoors. The festival will culminate on Saturday\, September 12\, with a Quick Draw competition and sale\, followed by a celebratory reception and awards presentation. All events are free and open to the public\, including watching the artists paint.more Mendocino Open Paint Out informationMore information: www.mendocinoartcenter.org
X-ALT-DESC;FMTTYPE=text/html:<p><span>MENDOCINO OPEN PAINT OUT â€“ A PLEIN AIR FESTIVAL</span><br /><span>September 7â€“12</span></p><p>The Mendocino Art Center hosts the third Mendocino Open Paint Out\, a plein air festival. The festival includes plein air painting\, with wet paint sales each day in the Art Center's galleries\, daily demonstrations and presentations\, and the opportunity to watch celebrity artists paint outdoors. The festival will culminate on Saturday\, September 12\, with a Quick Draw competition and sale\, followed by a celebratory reception and awards presentation. All events are free and open to the public\, including watching the artists paint.</p><p><a href="http://www.mendocinoartcenter.org/pleinair"><strong>more Mendocino Open Paint Out information</strong></a></p><p><strong>More information: <a href="http://www.mendocinoartcenter.org" target="_blank">www.mendocinoartcenter.org</a></strong></p><p><span><br /></span></p>
LOCATION:Mendocino Art Center Mendocino CA
UID:e.2883.541
SEQUENCE:3
DTSTAMP:20260422T151556Z
URL:https://mendocinocoast.com/events/details/mendocino-open-paint-out-a-plein-air-festival-02-19-2015-541
END:VEVENT

END:VCALENDAR
