BEGIN:VCALENDAR
VERSION:2.0
PRODID:-//ChamberMaster//Event Calendar 2.0//EN
METHOD:PUBLISH
X-PUBLISHED-TTL:P3D
REFRESH-INTERVAL:P3D
CALSCALE:GREGORIAN
BEGIN:VEVENT
DTSTART:20150908T190000Z
DTEND:20150909T000000Z
X-MICROSOFT-CDO-ALLDAYEVENT:FALSE
SUMMARY:Mendocino One World Festival
DESCRIPTION:The third annual Mendocino One World Festival will be Saturday\, October 3rd from noon-5pm at Friendship Park in Mendocino. MOWFest is a multicultural gathering for all ages with music\, dance\, food\, crafts\, and children's activities. Come enjoy a day of cultural explorationÂ with unique vendors and shows to benefit the Community Center of Mendocino.For more information visit www.ccmendo.org or check out the event page at www.facebook.com/mendocinooneworldfestival.
X-ALT-DESC;FMTTYPE=text/html:<p><span style="font-family:&quot\;arial black&quot\;\, &quot\;avant garde&quot\;\;font-size:medium\;">The third annual Mendocino One World Festival will be Saturday\, October 3rd from noon-5pm at Friendship Park in Mendocino. MOWFest is a multicultural gathering for all ages with music\, dance\, food\, crafts\, and children's activities. Come enjoy a day of cultural explorationÂ with unique vendors and shows to benefit the Community Center of Mendocino.</span></p><p><span style="font-family:&quot\;arial black&quot\;\, &quot\;avant garde&quot\;\;font-size:medium\;">For more information visit <a href="http://www.ccmendo.org">www.ccmendo.org</a> or check out the event page at <a href="http://www.facebook.com/mendocinooneworldfestival">www.facebook.com/mendocinooneworldfestival</a>.</span></p>
LOCATION:Friendship Park Mendocino
UID:e.2883.728
SEQUENCE:3
DTSTAMP:20260422T033135Z
URL:https://mendocinocoast.com/events/details/mendocino-one-world-festival-09-08-2015-728
END:VEVENT

END:VCALENDAR
