BEGIN:VCALENDAR
VERSION:2.0
PRODID:-//ChamberMaster//Event Calendar 2.0//EN
METHOD:PUBLISH
X-PUBLISHED-TTL:P3D
REFRESH-INTERVAL:P3D
CALSCALE:GREGORIAN
BEGIN:VEVENT
DTSTART:20140708T180000Z
DTEND:20140709T000000Z
X-MICROSOFT-CDO-ALLDAYEVENT:FALSE
SUMMARY:Mendocino One World Festival
DESCRIPTION:A local happening with a global vision\, this family-friendly event will celebrate the rich diversity of our world with music\, dance\, food\, arts and crafts\, healing arts\, and childrenâ€™s activities.Â  Get out your dancing shoes\, bring your kids\, come sample the cuisine\, the imports and crafts\, and some soul-stirring rhythms.Performers include\, Batucada TreMendo (Samba drumming)\, Aliou Diouf (African drumming)\, Justine Lemos (Classical Indian Dance)\, Chamico (Cuban)\, Laura Sloane and the Dance Underground\, Nancy Joy Evans & the Whole Hearted (Americana Indy Pop)\, the Coastal Zumba Crew\, Pura Vida (Afro-Carribean)\, with aerial silks demos by Circus Mecca. Updates at www.mowfest.org.Suggested donation $5.Â  Proceeds will help to support the Community Center of Mendocinoâ€™s After School Enrichment Program and other community activities and services.Â  No dogs\, alcohol\, or drugs please.
X-ALT-DESC;FMTTYPE=text/html:<p>A local happening with a global vision\, this family-friendly event will celebrate the rich diversity of our world with music\, dance\, food\, arts and crafts\, healing arts\, and childrenâ€™s activities.Â  Get out your dancing shoes\, bring your kids\, come sample the cuisine\, the imports and crafts\, and some soul-stirring rhythms.</p><p>Performers include\, Batucada TreMendo (Samba drumming)\, Aliou Diouf (African drumming)\, Justine Lemos (Classical Indian Dance)\, Chamico (Cuban)\, Laura Sloane and the Dance Underground\, Nancy Joy Evans &amp\; the Whole Hearted (Americana Indy Pop)\, the Coastal Zumba Crew\, Pura Vida (Afro-Carribean)\, with aerial silks demos by Circus Mecca. Updates at www.mowfest.org.</p><p>Suggested donation $5.Â  Proceeds will help to support the Community Center of Mendocinoâ€™s After School Enrichment Program and other community activities and services.Â  No dogs\, alcohol\, or drugs please.</p>
LOCATION:Friendship Park Mendocino
UID:e.2883.288
SEQUENCE:3
DTSTAMP:20260423T040710Z
URL:https://mendocinocoast.com/events/details/mendocino-one-world-festival-07-08-2014-288
END:VEVENT

END:VCALENDAR
