BEGIN:VCALENDAR
VERSION:2.0
PRODID:-//ChamberMaster//Event Calendar 2.0//EN
METHOD:PUBLISH
X-PUBLISHED-TTL:P3D
REFRESH-INTERVAL:P3D
CALSCALE:GREGORIAN
BEGIN:VEVENT
DTSTART:20140421T030000Z
DTEND:20140421T050100Z
X-MICROSOFT-CDO-ALLDAYEVENT:FALSE
SUMMARY:Mendocino Music Festival: Violinist David McCarroll with the Festival Orchestra
DESCRIPTION:Wednesday\, July 23\, 2014\, 8:00 PMTent Concert HallJoin us in a celebration of romance as you listen to the Concerto for Violin and Orchestra by Jean Sibelius and Symphony #2 of Rachmaninoff\, both thrilling\, monumental works. Julian Waterfall Pollack will premier his evocative Night Flower.Violinist David McCarroll grew up at a remote mountaintop monastery in the nearby town of Annapolis\, and has become an international soloist on the summer festival circuit\, including Ravinia and Marlboro. He will perform the soulful violin concerto of Jean Sibelius. The Second Symphony of Rachmaninoff is perhaps the worldâ€™s most romantic symphony\, full of lush orchestral colors and the grand themes for which Rachmaninoff is famous.Mendocino Music Festival runs July 12 - 26. More information: www.MendocinoMusic.org  707 937-2044
X-ALT-DESC;FMTTYPE=text/html:Wednesday\, July 23\, 2014\, 8:00 PMTent Concert HallJoin us in a celebration of romance as you listen to the Concerto for Violin and Orchestra by Jean Sibelius and Symphony #2 of Rachmaninoff\, both thrilling\, monumental works. Julian Waterfall Pollack will premier his evocative Night Flower.Violinist David McCarroll grew up at a remote mountaintop monastery in the nearby town of Annapolis\, and has become an international soloist on the summer festival circuit\, including Ravinia and Marlboro. He will perform the soulful violin concerto of Jean Sibelius. The Second Symphony of Rachmaninoff is perhaps the worldâ€™s most romantic symphony\, full of lush orchestral colors and the grand themes for which Rachmaninoff is famous.Mendocino Music Festival runs July 12 - 26. More information: www.MendocinoMusic.org  707 937-2044
LOCATION:16\,000 square foot Tent Performance Hall Mendocino
UID:e.2883.231
SEQUENCE:3
DTSTAMP:20260423T100736Z
URL:https://mendocinocoast.com/events/details/mendocino-music-festival-violinist-david-mccarroll-with-the-festival-orchestra-04-20-2014-231
END:VEVENT

END:VCALENDAR
