BEGIN:VCALENDAR
VERSION:2.0
PRODID:-//ChamberMaster//Event Calendar 2.0//EN
METHOD:PUBLISH
X-PUBLISHED-TTL:P3D
REFRESH-INTERVAL:P3D
CALSCALE:GREGORIAN
BEGIN:VEVENT
DTSTART:20140421T220100Z
DTEND:20140421T233000Z
X-MICROSOFT-CDO-ALLDAYEVENT:FALSE
SUMMARY:Mendocino Music Festival: Super Heroes of the Bay Area Jazz Scene
DESCRIPTION:Suzanna Smith and Kenny WashingtonWednesday\, July 23\, 2014\, 3:00 PMPreston Hall - adjacent to the Mendocino Presbyterian Church on Main St.Superheroes of the Bay Area Jazz Scene.Listen to the magic as Smith\, who combines the confessional imperative of a singer/songwriter with the rhythmic acuity of a jazz chanteuse\, teams up with Washington\, a jazz virtuoso who thrills audiences with his soulful interpretations\, seemingly limitless range\, and rapid-fire scatting.Both have superb voices that glide effortlessly into the stratosphere. The music comes from a tradition of soul that is deep and heartfelt.  Their rhythmic energy and imaginative interpretations bring this lovely music to life in a way that is both traditional and completely new.Smith is â€œâ€¦a truly unique talent\, whose musical stock is that proverbial arrow pointing straight upâ€¦organic\, eclectic\, and contemporary\, yet rooted in the tradition of what old school vocal jazz was once all aboutâ€”soul.â€ Brent Black\, criticaljazz.comKenny Washington is â€œthe Superman of the Bay Area jazz scene\, a vocalist with an exuberantly supple tenor that glides effortlessly into the stratosphere.â€  Andrew Gilbert\, SF ChronicleThe Mendocino Music Festival runs July 12 - 26. More information: www.MendocinoMusic.org 707 937-2044
X-ALT-DESC;FMTTYPE=text/html:Suzanna Smith and Kenny WashingtonWednesday\, July 23\, 2014\, 3:00 PMPreston Hall - adjacent to the Mendocino Presbyterian Church on Main St.Superheroes of the Bay Area Jazz Scene.Listen to the magic as Smith\, who combines the confessional imperative of a singer/songwriter with the rhythmic acuity of a jazz chanteuse\, teams up with Washington\, a jazz virtuoso who thrills audiences with his soulful interpretations\, seemingly limitless range\, and rapid-fire scatting.Both have superb voices that glide effortlessly into the stratosphere. The music comes from a tradition of soul that is deep and heartfelt.  Their rhythmic energy and imaginative interpretations bring this lovely music to life in a way that is both traditional and completely new.Smith is â€œâ€¦a truly unique talent\, whose musical stock is that proverbial arrow pointing straight upâ€¦organic\, eclectic\, and contemporary\, yet rooted in the tradition of what old school vocal jazz was once all aboutâ€”soul.â€ Brent Black\, criticaljazz.comKenny Washington is â€œthe Superman of the Bay Area jazz scene\, a vocalist with an exuberantly supple tenor that glides effortlessly into the stratosphere.â€  Andrew Gilbert\, SF ChronicleThe Mendocino Music Festival runs July 12 - 26. More information: www.MendocinoMusic.org 707 937-2044
LOCATION:Preston Hall - adjacent to Mendocino Presbyterian Church
UID:e.2883.230
SEQUENCE:3
DTSTAMP:20260423T100731Z
URL:https://mendocinocoast.com/events/details/mendocino-music-festival-super-heroes-of-the-bay-area-jazz-scene-04-21-2014-230
END:VEVENT

END:VCALENDAR
