BEGIN:VCALENDAR
VERSION:2.0
PRODID:-//ChamberMaster//Event Calendar 2.0//EN
METHOD:PUBLISH
X-PUBLISHED-TTL:P3D
REFRESH-INTERVAL:P3D
CALSCALE:GREGORIAN
BEGIN:VEVENT
DTSTART:20140410T030000Z
DTEND:20140410T050000Z
X-MICROSOFT-CDO-ALLDAYEVENT:FALSE
SUMMARY:Mendocino Music Festival Opening Night
DESCRIPTION:Festival Orchestra with Stephen PrutsmanSaturday\, July 12\, 2014\, 8:00 PMTent Concert Hall - Overlooking the Pacific Ocean on the Mendocino Headlands State ParkAudience favorite Stephen Prutsman will play the Mozart Piano Concerto in C minor. â€œCongaâ€ by Marquez will have you dancing in your seats\, and conductor/composer Allan Pollack will present his piece â€œA Summer Evening at the Boonville Fair\,â€ that musically evokes the many festive aspects of the annual county fair. A fun\, upbeat concert that everyone will enjoy.â€œPianist Stephen Prutsman has won major classical music competitions\, heâ€™s written arrangements for string quartets and pop stars and he writes jazz music for himself to play. So which musical world exactly does Prutsman live in? Not one in particular\, Prutsman says. Just his own.â€ â€“Suzanne Schaffer\, American Public Media: Performance TodayThe Mendocino Music Festival runs July 12 - 26. Tickets and information: www.MendocinoMusic.org or call 707 937-2044
X-ALT-DESC;FMTTYPE=text/html:Festival Orchestra with Stephen PrutsmanSaturday\, July 12\, 2014\, 8:00 PMTent Concert Hall - Overlooking the Pacific Ocean on the Mendocino Headlands State ParkAudience favorite Stephen Prutsman will play the Mozart Piano Concerto in C minor. â€œCongaâ€ by Marquez will have you dancing in your seats\, and conductor/composer Allan Pollack will present his piece â€œA Summer Evening at the Boonville Fair\,â€ that musically evokes the many festive aspects of the annual county fair. A fun\, upbeat concert that everyone will enjoy.â€œPianist Stephen Prutsman has won major classical music competitions\, heâ€™s written arrangements for string quartets and pop stars and he writes jazz music for himself to play. So which musical world exactly does Prutsman live in? Not one in particular\, Prutsman says. Just his own.â€ â€“Suzanne Schaffer\, American Public Media: Performance TodayThe Mendocino Music Festival runs July 12 - 26. Tickets and information: www.MendocinoMusic.org or call 707 937-2044
LOCATION:16\,000 square foot Tent Performance Hall Mendocino
UID:e.2883.200
SEQUENCE:3
DTSTAMP:20260423T100318Z
URL:https://mendocinocoast.com/events/details/mendocino-music-festival-opening-night-04-09-2014-200
END:VEVENT

END:VCALENDAR
