BEGIN:VCALENDAR
VERSION:2.0
PRODID:-//ChamberMaster//Event Calendar 2.0//EN
METHOD:PUBLISH
X-PUBLISHED-TTL:P3D
REFRESH-INTERVAL:P3D
CALSCALE:GREGORIAN
BEGIN:VEVENT
DTSTART:20140712T050000Z
DTEND:20140712T080000Z
X-MICROSOFT-CDO-ALLDAYEVENT:FALSE
SUMMARY:Mendocino Music Festival
DESCRIPTION:Mendocino Music Festival
X-ALT-DESC;FMTTYPE=text/html:<p>Mendocino Music Festival</p>
LOCATION:Tent Concert Hall\, Mendocino Headlands State Park
UID:e.2883.73
SEQUENCE:3
DTSTAMP:20260423T023653Z
URL:https://mendocinocoast.com/events/details/mendocino-music-festival-07-11-2014-73
END:VEVENT

END:VCALENDAR
