BEGIN:VCALENDAR
VERSION:2.0
PRODID:-//ChamberMaster//Event Calendar 2.0//EN
METHOD:PUBLISH
X-PUBLISHED-TTL:P3D
REFRESH-INTERVAL:P3D
CALSCALE:GREGORIAN
BEGIN:VEVENT
DTSTART;VALUE=DATE:20160420
DTEND;VALUE=DATE:20160421
TRANSP:TRANSPARENT
X-MICROSOFT-CDO-ALLDAYEVENT:TRUE
SUMMARY:Mendocino Music Festival
DESCRIPTION:30th AnniversaryMendocino Music FestivalJuly 9 - 23\, 2016707-937-4041mendocinomusic.orgÂ Please join us for glorious music in an extraordinary variety of genres - symphonic\, chamber\, opera\, jazz\, Scottish\, American Roots\, world\, and more. Whatever your musical tastes\, prepare to be delighted. And what could be a more insipiring location for listening than the edge of the Pacific Ocean\, surrounded by redwoods\, art galleries\, uncrowded state parks\, award-winning wineries and craft breweries\, cozy inns and excellent restaurants. A celebration of music\, to which the world is invited!Â Music on the Edge of the World!
X-ALT-DESC;FMTTYPE=text/html:<p style="text-align:center\;"><span style="font-size:medium\;"><strong>30th Anniversary</strong></span></p><p style="text-align:center\;"><span style="font-size:medium\;"><strong>Mendocino Music Festival</strong></span></p><p style="text-align:center\;"><span style="font-size:small\;">July 9 - 23\, 2016</span></p><p style="text-align:center\;"><span style="font-size:small\;">707-937-4041</span></p><p style="text-align:center\;"><span style="font-size:small\;"><a href="http://mendocinomusic.org/">mendocinomusic.org</a></span></p><p style="text-align:center\;">Â </p><p style="text-align:center\;"><span style="font-size:small\;">Please join us for glorious music in an extraordinary variety of genres - symphonic\, chamber\, opera\, jazz\, Scottish\, American Roots\, world\, and more. Whatever your musical tastes\, prepare to be delighted. And what could be a more insipiring location for listening than the edge of the Pacific Ocean\, surrounded by redwoods\, art galleries\, uncrowded state parks\, award-winning wineries and craft breweries\, cozy inns and excellent restaurants. A celebration of music\, to which the world is invited!</span></p><p style="text-align:center\;">Â </p><p style="text-align:center\;"><span style="font-size:medium\;"><strong>Music on the Edge of the World!</strong></span></p>
LOCATION:Mendocino Music Festival 2016
UID:e.2883.913
SEQUENCE:3
DTSTAMP:20260421T160751Z
URL:https://mendocinocoast.com/events/details/mendocino-music-festival-04-20-2016-913
END:VEVENT

END:VCALENDAR
