BEGIN:VCALENDAR
VERSION:2.0
PRODID:-//ChamberMaster//Event Calendar 2.0//EN
METHOD:PUBLISH
X-PUBLISHED-TTL:P3D
REFRESH-INTERVAL:P3D
CALSCALE:GREGORIAN
BEGIN:VEVENT
DTSTART;VALUE=DATE:20140201
DTEND;VALUE=DATE:20140202
TRANSP:TRANSPARENT
X-MICROSOFT-CDO-ALLDAYEVENT:TRUE
SUMMARY:Mendocino Lions Pancake Breakfast
DESCRIPTION:Eggs\, Bacon\, OJ\, coffee all for $7
X-ALT-DESC;FMTTYPE=text/html:<p>Eggs\, Bacon\, OJ\, coffee all for $7</p>
LOCATION:Mendofino Fire Hall/Lansing Street Mendocino
UID:e.2883.115
SEQUENCE:3
DTSTAMP:20260423T131713Z
URL:https://mendocinocoast.com/events/details/mendocino-lions-pancake-breakfast-02-01-2014-115
END:VEVENT

END:VCALENDAR
