BEGIN:VCALENDAR
VERSION:2.0
PRODID:-//ChamberMaster//Event Calendar 2.0//EN
METHOD:PUBLISH
X-PUBLISHED-TTL:P3D
REFRESH-INTERVAL:P3D
CALSCALE:GREGORIAN
BEGIN:VEVENT
DTSTART:20140124T050000Z
DTEND:20140124T090000Z
X-MICROSOFT-CDO-ALLDAYEVENT:FALSE
SUMMARY:Mendocino Hotel\, Navarro Vineyards Winemaker Dinner
DESCRIPTION:5 course Crab dinner featuring perfectly paired Navarro wines with winemaker Jim Klein $95.00 per person January 24\, 2014 6 PM Call for Reservations 1-800-548-0513
X-ALT-DESC;FMTTYPE=text/html:<p>5 course Crab dinner featuring perfectly paired Navarro wines with winemaker Jim Klein $95.00 per person January 24\, 2014 6 PM Call for Reservations 1-800-548-0513</p>
LOCATION:Mendocino Hotel 45080 Main St. Mendocino CA
UID:e.2883.72
SEQUENCE:3
DTSTAMP:20260423T145043Z
URL:https://mendocinocoast.com/events/details/mendocino-hotel-navarro-vineyards-winemaker-dinner-01-23-2014-72
END:VEVENT

END:VCALENDAR
