BEGIN:VCALENDAR
VERSION:2.0
PRODID:-//ChamberMaster//Event Calendar 2.0//EN
METHOD:PUBLISH
X-PUBLISHED-TTL:P3D
REFRESH-INTERVAL:P3D
CALSCALE:GREGORIAN
BEGIN:VEVENT
DTSTART:20150430T190000Z
DTEND:20150430T200000Z
X-MICROSOFT-CDO-ALLDAYEVENT:FALSE
SUMMARY:Mendocino Fourth of July Parade 2015
DESCRIPTION:This is a wonderful parade with lots of local color\, definitely not to  be missed. This year the 4th falls on Saturday and the parade begins at 12  noon in the town of Mendocino. Â The judges stand will be across from  the Kelley House Museum.For up to date information please click here to  visit Mendocino 4th of July Parade facebook page. The theme this year Â Protecting the Mendocino Coast.Â Click here to download the parade application form
X-ALT-DESC;FMTTYPE=text/html:<p>This is a wonderful parade with lots of local color\, definitely not to  be missed. This year the 4th falls on Saturday and the parade begins at 12  noon in the town of Mendocino. Â The judges stand will be across from  the Kelley House Museum.For up to date information please click here to  visit Mendocino <a href="https://www.facebook.com/pages/Mendocino-4th-of-July-Parade">4th of July Parade facebook page</a>. The theme this year Â <em><strong>Protecting the Mendocino Coast.</strong></em></p><p>Â </p><p><em><strong><a href="/customcontent/members/sviadmin/PDF/Parade_Application_2015.pdf" target="_blank">Click here to download the parade application form</a><br /></strong></em></p>
LOCATION:See parade route Mendocino
UID:e.2883.617
SEQUENCE:3
DTSTAMP:20260422T115342Z
URL:https://mendocinocoast.com/events/details/mendocino-fourth-of-july-parade-2015-04-30-2015-617
END:VEVENT

END:VCALENDAR
