BEGIN:VCALENDAR
VERSION:2.0
PRODID:-//ChamberMaster//Event Calendar 2.0//EN
METHOD:PUBLISH
X-PUBLISHED-TTL:P3D
REFRESH-INTERVAL:P3D
CALSCALE:GREGORIAN
BEGIN:VEVENT
DTSTART:20140529T090000Z
DTEND:20140529T080000Z
X-MICROSOFT-CDO-ALLDAYEVENT:FALSE
SUMMARY:Mendocino Film Festival 2014
DESCRIPTION:More information to come as we get it.
X-ALT-DESC;FMTTYPE=text/html:<p>More information to come as we get it.</p>
LOCATION:Mendocino
UID:e.2883.71
SEQUENCE:3
DTSTAMP:20260423T083200Z
URL:https://mendocinocoast.com/events/details/mendocino-film-festival-2014-05-29-2014-71
END:VEVENT

END:VCALENDAR
