BEGIN:VCALENDAR
VERSION:2.0
PRODID:-//ChamberMaster//Event Calendar 2.0//EN
METHOD:PUBLISH
X-PUBLISHED-TTL:P3D
REFRESH-INTERVAL:P3D
CALSCALE:GREGORIAN
BEGIN:VEVENT
DTSTART;VALUE=DATE:20150514
DTEND;VALUE=DATE:20150515
TRANSP:TRANSPARENT
X-MICROSOFT-CDO-ALLDAYEVENT:TRUE
SUMMARY:Mendocino County Museumâ€™s Civil War Sesquicentennial Commemoration
DESCRIPTION:In commemoration of the Sesquicentennial (150th Anniversary) of the end of the Civil War\, the Mendocino County Museum will open two new exhibitions that chronicle the Civil War years from both a national and a local perspective on May 16\, 2015.Â Lincoln: The Constitution and the Civil War\, a nationally-traveling exhibition on display through June 21\, examines how President Lincoln used the Constitution to confront three intertwined crises of the Civil Warâ€”the secession of Southern states\, slavery and wartime civil
X-ALT-DESC;FMTTYPE=text/html:<p>In commemoration of the Sesquicentennial (150<span><sup>th</sup></span> Anniversary) of the end of the Civil War\, the Mendocino County Museum will open two new exhibitions that chronicle the Civil War years from both a national and a local perspective on May 16\, 2015.</p><p>Â </p><p><strong><em>Lincoln: The Constitution and the Civil War\,</em></strong> a nationally-traveling exhibition on display through June 21\, examines how President Lincoln used the Constitution to confront three intertwined crises of the Civil Warâ€”the secession of Southern states\, slavery and wartime civil</p>
LOCATION:Mendocino County Museum Willits
UID:e.2883.625
SEQUENCE:3
DTSTAMP:20260422T101918Z
URL:https://mendocinocoast.com/events/details/mendocino-county-museum&#226;-s-civil-war-sesquicentennial-commemoration-05-14-2015-625
END:VEVENT

END:VCALENDAR
