BEGIN:VCALENDAR
VERSION:2.0
PRODID:-//ChamberMaster//Event Calendar 2.0//EN
METHOD:PUBLISH
X-PUBLISHED-TTL:P3D
REFRESH-INTERVAL:P3D
CALSCALE:GREGORIAN
BEGIN:VEVENT
DTSTART:20140612T200000Z
DTEND:20140612T230000Z
X-MICROSOFT-CDO-ALLDAYEVENT:FALSE
SUMMARY:Mendocino County Museum Woven Worlds Opening Reception
DESCRIPTION:On Saturday\, June 21\, from 1 to 4 pm\, the Mendocino County Museum will welcome all to a reception for "Woven Worlds\," a permanent exhibit celebrating the Native American heritage of Mendocino County. The reception will feature dancers\, samples of traditional foods and an opportunity to experience the exhibit and meet the exhibitâ€™s designers.Exhibit displays include an interactive map of traditional tribal homelands\, language samples\, a seasonal round and historical videos. There's also a wall-sized photo mural\, a timeline using original documents\, and kiosks where visitors can try weaving baskets and playing native games.The Mendocino County Museum is located at 400 East Commercial Street in Willits. For more information\, please call 459-2736 or visit www.MendocinoMuseum.org.
X-ALT-DESC;FMTTYPE=text/html:<p>On Saturday\, June 21\, from 1 to 4 pm\, the Mendocino County Museum will welcome all to a reception for "Woven Worlds\," a permanent exhibit celebrating the Native American heritage of Mendocino County. The reception will feature dancers\, samples of traditional foods and an opportunity to experience the exhibit and meet the exhibitâ€™s designers.</p><p>Exhibit displays include an interactive map of traditional tribal homelands\, language samples\, a seasonal round and historical videos. There's also a wall-sized photo mural\, a timeline using original documents\, and kiosks where visitors can try weaving baskets and playing native games.</p><p>The Mendocino County Museum is located at 400 East Commercial Street in Willits. For more information\, please call 459-2736 or visit <a href="http://www.MendocinoMuseum.org">www.MendocinoMuseum.org</a>.</p>
LOCATION:Mendocino County Museum Willits
UID:e.2883.279
SEQUENCE:3
DTSTAMP:20260423T065504Z
URL:https://mendocinocoast.com/events/details/mendocino-county-museum-woven-worlds-opening-reception-06-12-2014-279
END:VEVENT

END:VCALENDAR
