BEGIN:VCALENDAR
VERSION:2.0
PRODID:-//ChamberMaster//Event Calendar 2.0//EN
METHOD:PUBLISH
X-PUBLISHED-TTL:P3D
REFRESH-INTERVAL:P3D
CALSCALE:GREGORIAN
BEGIN:VEVENT
DTSTART:20140403T170000Z
DTEND:20140404T000000Z
X-MICROSOFT-CDO-ALLDAYEVENT:FALSE
SUMMARY:Mendocino County Mini Maker Faire
DESCRIPTION:The Mendocino County Museum presents the 2nd Annual Mendocino County Mini Maker Faire\, Saturday\, May 24th\, from 10 am to 5 pm. As part of its commitment to community-wide access\, admission to the Mendocino County Mini Maker Faire will be free of charge with Museum admission.With booths\, workshops\, demonstrations and performances\, the Mendocino County Mini Maker Faire features innovation and experimentation across the spectrum of science\, technology\, manufacturing\, engineering\, art\, performance and craft in our county. Activities are designed to share what local industries\, businesses and neighbors are making\, inventing\, creating\, and learning.For more information visitÂ www.MendocinoMakerFaire.com or call the Mendocino County MuseumÂ at 707 459-2736.
X-ALT-DESC;FMTTYPE=text/html:<p><strong> </strong></p><p><strong> </strong></p><p><strong>The Mendocino County Museum presents the 2<sup>nd</sup> Annual Mendocino County Mini Maker Faire</strong><strong>\,</strong><strong> </strong><strong>Saturday\, May 24<sup>th</sup>\, from 10 am to 5 pm.</strong> As part of its commitment to community-wide access\, admission to the <strong>Mendocino County Mini Maker Faire</strong> will be free of charge with Museum admission.</p><p>With booths\, workshops\, demonstrations and performances\, the <strong>Mendocino County Mini Maker Faire</strong> features innovation and experimentation across the spectrum of science\, technology\, manufacturing\, engineering\, art\, performance and craft in our county. Activities are designed to share what local industries\, businesses and neighbors are making\, inventing\, creating\, and learning.</p><p>For more information visitÂ <a href="http://www.mendocinomakerfaire.com/">www.MendocinoMakerFaire.com</a> or call the Mendocino County MuseumÂ at 707 459-2736.</p>
LOCATION:Mendocino County Museum Willits
UID:e.2883.194
SEQUENCE:3
DTSTAMP:20260423T100005Z
URL:https://mendocinocoast.com/events/details/mendocino-county-mini-maker-faire-04-03-2014-194
END:VEVENT

END:VCALENDAR
