BEGIN:VCALENDAR
VERSION:2.0
PRODID:-//ChamberMaster//Event Calendar 2.0//EN
METHOD:PUBLISH
X-PUBLISHED-TTL:P3D
REFRESH-INTERVAL:P3D
CALSCALE:GREGORIAN
BEGIN:VEVENT
DTSTART:20150110T043000Z
DTEND:20150110T060000Z
X-MICROSOFT-CDO-ALLDAYEVENT:FALSE
SUMMARY:Mendocino Country Dance
DESCRIPTION:English Country Dance is fun\, relatively easy\, community-oriented dancing with live music. 8 pm (newcomer instruction at 7:30 pm). $10 admission. All dances are taught.\nNo partner is required. Beginners are encouraged to participate. No special dress is required.\nPlease bring potluck snacks and beverages to share during the break.Takes place at Caspar Community Center\, 15051 Caspar Road in Caspar. Check out the website for more information:Â http://www.casparcommons.org/
X-ALT-DESC;FMTTYPE=text/html:<p>English Country Dance is fun\, relatively easy\, community-oriented dancing with live music. 8 pm (newcomer instruction at 7:30 pm). $10 admission. All dances are taught.<br />No partner is required. Beginners are encouraged to participate. No special dress is required.<br />Please bring potluck snacks and beverages to share during the break.</p><p>Takes place at Caspar Community Center\, 15051 Caspar Road in Caspar. Check out the website for more information:Â <a href="http://www.casparcommons.org/" target="_blank">http://www.casparcommons.org/</a></p>
LOCATION:Caspar Community Center
UID:e.2883.431
SEQUENCE:3
DTSTAMP:20260422T163615Z
URL:https://mendocinocoast.com/events/details/mendocino-country-dance-01-09-2015-431
END:VEVENT

END:VCALENDAR
