BEGIN:VCALENDAR
VERSION:2.0
PRODID:-//ChamberMaster//Event Calendar 2.0//EN
METHOD:PUBLISH
X-PUBLISHED-TTL:P3D
REFRESH-INTERVAL:P3D
CALSCALE:GREGORIAN
BEGIN:VEVENT
DTSTART;VALUE=DATE:20141120
DTEND;VALUE=DATE:20141121
TRANSP:TRANSPARENT
X-MICROSOFT-CDO-ALLDAYEVENT:TRUE
SUMMARY:Mendocino Coast Sea Dragons
DESCRIPTION:The Mendocino Coast Sea Dragons swim team is hosting their annual "Thankswimming" meet on Nov. 22\,23 2014. The meet begins at 9am on both Sat. and Sun. at the CV Starr Community Center Pool. Over 300 swimmers come to Fort Bragg to compete in this very fast paced event. Come watch some great swimmers ages 5-18 race each other for times\, ribbons\, and metals!!
X-ALT-DESC;FMTTYPE=text/html:<p style="text-align:left\;">The Mendocino Coast Sea Dragons swim team is hosting their annual "Thankswimming" meet on Nov. 22\,23 2014. The meet begins at 9am on both Sat. and Sun. at the CV Starr Community Center Pool. Over 300 swimmers come to Fort Bragg to compete in this very fast paced event. Come watch some great swimmers ages 5-18 race each other for times\, ribbons\, and metals!!</p>
LOCATION:CV Starr Community Center Fort Bragg
UID:e.2883.380
SEQUENCE:3
DTSTAMP:20260422T195807Z
URL:https://mendocinocoast.com/events/details/mendocino-coast-sea-dragons-11-20-2014-380
END:VEVENT

END:VCALENDAR
