BEGIN:VCALENDAR
VERSION:2.0
PRODID:-//ChamberMaster//Event Calendar 2.0//EN
METHOD:PUBLISH
X-PUBLISHED-TTL:P3D
REFRESH-INTERVAL:P3D
CALSCALE:GREGORIAN
BEGIN:VEVENT
DTSTART:20140105T210000Z
DTEND:20140106T030000Z
X-MICROSOFT-CDO-ALLDAYEVENT:FALSE
SUMMARY:Mendocino Coast Flea Market-Marketplace
DESCRIPTION:Old fashioned\, outdoor\, country & flea market. Every Saturday & Sunday\, all year round. weather permiting\, from 10:00 am.
X-ALT-DESC;FMTTYPE=text/html:<p>Old fashioned\, outdoor\, country &amp\; flea market. Every Saturday &amp\; Sunday\, all year round. weather permiting\, from 10:00 am.</p>
LOCATION:18631 N. Hwy 1\, Fort Bragg AT THE ROUNDABOUT/(between FB & Mendocino)
UID:e.2883.33
SEQUENCE:3
DTSTAMP:20260423T162219Z
URL:https://mendocinocoast.com/events/details/mendocino-coast-flea-market-marketplace-01-05-2014-33
END:VEVENT

END:VCALENDAR
