BEGIN:VCALENDAR
VERSION:2.0
PRODID:-//ChamberMaster//Event Calendar 2.0//EN
METHOD:PUBLISH
X-PUBLISHED-TTL:P3D
REFRESH-INTERVAL:P3D
CALSCALE:GREGORIAN
BEGIN:VEVENT
DTSTART:20141128T195000Z
DTEND:20141129T020000Z
X-MICROSOFT-CDO-ALLDAYEVENT:FALSE
SUMMARY:Mendocino Coast Chamber SHOP SMALL Passport Drawing
DESCRIPTION:On Sat\, 29 Nov\, the Mendocino Coast Chamber SHOP SMALL Passport Program is taking place! That day\, the race for stamps will be on - eight stamps in your passport (you get one stamp per purchase in our participating local shops in Fort Bragg and Mendocino)\, and you can participate in our drawing!The prize is an exciting Mendo Coast passport basket with gift certificates and unique gift items from the Mendocino coast â€“ worth over 200 dollars! There will also be whale festival tickets to win for 2015.Â There will be passport collecting boxes in four different places. You can drop off your passport before 5 p.m. on Nov 29 atReynold's Men's Wear at 349 North Franklin Street\, Fort Bragg\n Low Tide in the Depot building at 401 North Main Street\, Fort BraggGallery Bookshop & Bookwinkles at 319 Karsten Street\, Mendocinoâ€¨\nSallie Mac at 10540 Lansing Street\, Mendocino.\n\nThe winners will be drawn on Mon\, 1 Dec by 5 p.m. They will be notified by Email or phone and announced on the Chamber website\, Twitter and Facebook. Good luck to everyone!!
X-ALT-DESC;FMTTYPE=text/html:<p>On Sat\, 29 Nov\, the <strong>Mendocino Coast Chamber SHOP SMALL Passport Program</strong> is taking place! That day\, the race for stamps will be on - <strong>eight stamps</strong> in your passport (you get one stamp per purchase in our participating local shops in Fort Bragg and Mendocino)\, and you can participate in our drawing!</p><p>The prize is an exciting M<span style="font-family: ArialMT\, sans-serif\; font-size: small\;">endo Coast passport basket with gift certificates and unique gift items from the Mendocino coast â€“ worth over 200 dollars! There will also be whale festival tickets to win for 2015.</span></p><p>Â </p><p><span style="color: #000000\;"><span style="font-family: ArialMT\, sans-serif\;"><span style="font-size: small\;"><span><span>There will be passport collecting boxes in four different places. You can drop off your passport before 5 p.m. on Nov 29 at</span></span></span></span></span></p><p><span style="color: #000000\;"><span style="font-family: ArialMT\, sans-serif\;"><span style="font-size: small\;"><span><strong>Reynold's Men's Wear </strong></span></span></span></span><span style="color: #000000\;"><span style="font-family: ArialMT\, sans-serif\;"><span style="font-size: small\;"><span><span>at 349 North Franklin Street\, Fort Bragg<br /> </span></span></span></span></span><span style="color: #000000\;"><span style="font-family: ArialMT\, sans-serif\;"><span style="font-size: small\;"><span><strong>Low Tide</strong></span></span></span></span><span style="color: #000000\;"><span style="font-family: ArialMT\, sans-serif\;"><span style="font-size: small\;"><span><span> in the Depot building at 401 North Main Street\, Fort Bragg</span></span></span></span></span></p><p><span style="color: #000000\;"><span style="font-family: ArialMT\, sans-serif\;"><span style="font-size: small\;"><span><strong>Gallery Bookshop &amp\; Bookwinkles </strong></span></span></span></span><span style="color: #000000\;"><span style="font-family: ArialMT\, sans-serif\;"><span style="font-size: small\;"><span><span>at 319 Karsten Street\, Mendocinoâ€¨<br /></span></span></span></span></span><span style="color: #000000\;"><span style="font-family: ArialMT\, sans-serif\;"><span style="font-size: small\;"><span><strong>Sallie Mac</strong></span></span></span></span><span style="color: #000000\;"><span style="font-family: ArialMT\, sans-serif\;"><span style="font-size: small\;"><span><span> at 10540 Lansing Street\, Mendocino.</span></span></span></span></span></p><p><span style="font-family: ArialMT\, sans-serif\; font-size: small\;"><br /></span></p><p><span style="font-family: ArialMT\, sans-serif\; font-size: small\;"><br /></span></p><p>The winners will be drawn on Mon\, 1 Dec by 5 p.m. They will be notified by Email or phone and announced on the Chamber website\, Twitter and Facebook. Good luck to everyone!!</p>
LOCATION:Mendocino Coast Chamber of Commerce Fort Bragg CA\, Mendocino CA
UID:e.2883.382
SEQUENCE:3
DTSTAMP:20260422T200152Z
URL:https://mendocinocoast.com/events/details/mendocino-coast-chamber-shop-small-passport-drawing-11-28-2014-382
END:VEVENT

END:VCALENDAR
