BEGIN:VCALENDAR
VERSION:2.0
PRODID:-//ChamberMaster//Event Calendar 2.0//EN
METHOD:PUBLISH
X-PUBLISHED-TTL:P3D
REFRESH-INTERVAL:P3D
CALSCALE:GREGORIAN
BEGIN:VEVENT
DTSTART:20140128T110100Z
DTEND:20140128T100100Z
X-MICROSOFT-CDO-ALLDAYEVENT:FALSE
SUMMARY:Mendocino Coast Botanical Garden Staff Led Garden Tours - November
DESCRIPTION:Join\nstaff lead garden tours the first Monday of the month for an informative walk\nthrough the Gardens! Sometimes its Rhododendrons\, sometimes birds\, sometimes\nmushrooms\, always fascinating and free w/ admission.
X-ALT-DESC;FMTTYPE=text/html:<p>Join<br />staff lead garden tours the first Monday of the month for an informative walk<br />through the Gardens! Sometimes its Rhododendrons\, sometimes birds\, sometimes<br />mushrooms\, always fascinating and free w/ admission.</p>
LOCATION:Mendocino Coast Botanical Garden Staff Led Garden Tours \, 18220 N. Hwy 1\, Fort Bragg
UID:e.2883.101
SEQUENCE:3
DTSTAMP:20260423T150350Z
URL:https://mendocinocoast.com/events/details/mendocino-coast-botanical-garden-staff-led-garden-tours-november-01-28-2014-101
END:VEVENT

END:VCALENDAR
