BEGIN:VCALENDAR
VERSION:2.0
PRODID:-//ChamberMaster//Event Calendar 2.0//EN
METHOD:PUBLISH
X-PUBLISHED-TTL:P3D
REFRESH-INTERVAL:P3D
CALSCALE:GREGORIAN
BEGIN:VEVENT
DTSTART;VALUE=DATE:20140128
DTEND;VALUE=DATE:20140129
TRANSP:TRANSPARENT
X-MICROSOFT-CDO-ALLDAYEVENT:TRUE
SUMMARY:Mendocino Coast Botanical Garden Staff Led Garden Tours - May
DESCRIPTION:Join\nstaff lead garden tours the first Monday of the month for an informative walk\nthrough the Gardens! Sometimes its Rhododendrons\, sometimes birds\, sometimes\nmushrooms\, always fascinating and free w/ admission.
X-ALT-DESC;FMTTYPE=text/html:<p><br /><br /></p><p style="margin: 0in\; color: #333333\; font-family: Verdana\; font-size: 8.25pt\;">Join<br />staff lead garden tours the first Monday of the month for an informative walk<br />through the Gardens! Sometimes its Rhododendrons\, sometimes birds\, sometimes<br />mushrooms\, always fascinating and free w/ admission.</p><p><br /><br /></p>
LOCATION:Mendocino Coast Botanical Garden Staff Led Garden Tours 18220 N. Hwy 1\, Fort Bragg
UID:e.2883.95
SEQUENCE:3
DTSTAMP:20260423T150222Z
URL:https://mendocinocoast.com/events/details/mendocino-coast-botanical-garden-staff-led-garden-tours-may-01-28-2014-95
END:VEVENT

END:VCALENDAR
