BEGIN:VCALENDAR
VERSION:2.0
PRODID:-//ChamberMaster//Event Calendar 2.0//EN
METHOD:PUBLISH
X-PUBLISHED-TTL:P3D
REFRESH-INTERVAL:P3D
CALSCALE:GREGORIAN
BEGIN:VEVENT
DTSTART:20140128T100000Z
DTEND:20140128T090000Z
X-MICROSOFT-CDO-ALLDAYEVENT:FALSE
SUMMARY:Mendocino Coast Botanical Garden Staff Led Garden Tours - June
DESCRIPTION:Join\nstaff lead garden tours the first Monday of the month for an informative walk\nthrough the Gardens! Sometimes its Rhododendrons\, sometimes birds\, sometimes\nmushrooms\, always fascinating and free w/ admission.
X-ALT-DESC;FMTTYPE=text/html:<p><br /><br /></p><p style="margin: 0in\; color: #333333\; font-family: Verdana\; font-size: 8.25pt\;">Join<br />staff lead garden tours the first Monday of the month for an informative walk<br />through the Gardens! Sometimes its Rhododendrons\, sometimes birds\, sometimes<br />mushrooms\, always fascinating and free w/ admission.</p><p><br /><br /></p>
LOCATION:Mendocino Coast Botanical Garden Staff Led Garden Tours 18220 N. Hwy 1\, Fort Bragg
UID:e.2883.96
SEQUENCE:3
DTSTAMP:20260423T150351Z
URL:https://mendocinocoast.com/events/details/mendocino-coast-botanical-garden-staff-led-garden-tours-june-01-28-2014-96
END:VEVENT

END:VCALENDAR
