BEGIN:VCALENDAR
VERSION:2.0
PRODID:-//ChamberMaster//Event Calendar 2.0//EN
METHOD:PUBLISH
X-PUBLISHED-TTL:P3D
REFRESH-INTERVAL:P3D
CALSCALE:GREGORIAN
BEGIN:VEVENT
DTSTART:20150402T170000Z
DTEND:20150402T230000Z
X-MICROSOFT-CDO-ALLDAYEVENT:FALSE
SUMMARY:Mendocino Choir Boosters Bake Sale Saturday
DESCRIPTION:Mendocino Choir Boosters Bake Sale Saturday\, April 4\, 10am - 4pm in frontÂ of Harvest at Mendosas.Â  Get your whole pies and cakes for Easter and support Music in Mendocino Schools! Â www.mendochoirs.org
X-ALT-DESC;FMTTYPE=text/html:<p>Mendocino Choir Boosters Bake Sale Saturday\, April 4\, 10am - 4pm in frontÂ of Harvest at Mendosas.Â  Get your whole pies and cakes for Easter and support Music in Mendocino Schools! Â <a href="http://www.mendochoirs.org/">www.mendochoirs.org</a></p>
LOCATION:Harvest at Mendosas Mendocino
UID:e.2883.582
SEQUENCE:3
DTSTAMP:20260422T115255Z
URL:https://mendocinocoast.com/events/details/mendocino-choir-boosters-bake-sale-saturday-04-02-2015-582
END:VEVENT

END:VCALENDAR
