BEGIN:VCALENDAR
VERSION:2.0
PRODID:-//ChamberMaster//Event Calendar 2.0//EN
METHOD:PUBLISH
X-PUBLISHED-TTL:P3D
REFRESH-INTERVAL:P3D
CALSCALE:GREGORIAN
BEGIN:VEVENT
DTSTART:20140908T090000Z
DTEND:20140908T080000Z
X-MICROSOFT-CDO-ALLDAYEVENT:FALSE
SUMMARY:Mendocino Art Centers Mendocino Open Paint Out
DESCRIPTION:The Mendocino Art Center hosts the second Mendocino Open Paint Out. The plein air festival includes five days of plein air painting\, with wet paint sales each day in the Art Centers galleries\, daily demonstrations\, presentations and lunches. The festival will culminate on Saturday\, September 13\, with a Quick Draw competition and sale\, followed by a celebratory reception and awards presentation. The public is welcome at all events\, including watching the artists paint.
X-ALT-DESC;FMTTYPE=text/html:<p>The Mendocino Art Center hosts the second Mendocino Open Paint Out. The plein air festival includes five days of plein air painting\, with wet paint sales each day in the Art Centers galleries\, daily demonstrations\, presentations and lunches. The festival will culminate on Saturday\, September 13\, with a Quick Draw competition and sale\, followed by a celebratory reception and awards presentation. The public is welcome at all events\, including watching the artists paint.</p>
LOCATION:Mendocino Art Center\, 45200 Little Lake Street\, Mendocino
UID:e.2883.67
SEQUENCE:3
DTSTAMP:20260422T232115Z
URL:https://mendocinocoast.com/events/details/mendocino-art-centers-mendocino-open-paint-out-09-08-2014-67
END:VEVENT

END:VCALENDAR
