BEGIN:VCALENDAR
VERSION:2.0
PRODID:-//ChamberMaster//Event Calendar 2.0//EN
METHOD:PUBLISH
X-PUBLISHED-TTL:P3D
REFRESH-INTERVAL:P3D
CALSCALE:GREGORIAN
BEGIN:VEVENT
DTSTART:20140719T190000Z
DTEND:20140720T020000Z
X-MICROSOFT-CDO-ALLDAYEVENT:FALSE
SUMMARY:Mendocino Art Centers 55th Annual Summer Arts & Crafts Fair
DESCRIPTION:For the 55th consecutive year locals and tourists alike will browse a wide variety of quality artwork at the 50 artisan booths situated outdoors in the Art Centers gardens\, as well as listen to live local music and enjoy festive food and drink while supporting the local artist community. The allure of this art fair is the abundance of one-of-a-kind artwork. Wearable art lovers are always in for a treat\, with an array of handmade jewelry\, as well clothing\, bags and hats. Those looking for something for the home will find ceramics\, wood accessories\, baskets\, gourds\, knives and more. Two-dimensional artwork is always highlighted by stunning photography and paintings\, and additional three-dimensional works often include sculptural pieces and musical instruments.
X-ALT-DESC;FMTTYPE=text/html:<p>For the 55th consecutive year locals and tourists alike will browse a wide variety of quality artwork at the 50 artisan booths situated outdoors in the Art Centers gardens\, as well as listen to live local music and enjoy festive food and drink while supporting the local artist community. The allure of this art fair is the abundance of one-of-a-kind artwork. Wearable art lovers are always in for a treat\, with an array of handmade jewelry\, as well clothing\, bags and hats. Those looking for something for the home will find ceramics\, wood accessories\, baskets\, gourds\, knives and more. Two-dimensional artwork is always highlighted by stunning photography and paintings\, and additional three-dimensional works often include sculptural pieces and musical instruments.</p>
LOCATION:Mendocino Art Center\, 45200 Little Lake Street\, Mendocino
UID:e.2883.65
SEQUENCE:3
DTSTAMP:20260423T041005Z
URL:https://mendocinocoast.com/events/details/mendocino-art-centers-55th-annual-summer-arts-crafts-fair-07-19-2014-65
END:VEVENT

END:VCALENDAR
