BEGIN:VCALENDAR
VERSION:2.0
PRODID:-//ChamberMaster//Event Calendar 2.0//EN
METHOD:PUBLISH
X-PUBLISHED-TTL:P3D
REFRESH-INTERVAL:P3D
CALSCALE:GREGORIAN
BEGIN:VEVENT
DTSTART:20150731T170000Z
DTEND:20150801T000000Z
X-MICROSOFT-CDO-ALLDAYEVENT:FALSE
SUMMARY:Mendocino Art Center's Natural Dye Showcase
DESCRIPTION:The Mendocino Art Center exhibits the Natural Dye Showcase\, August 3-28. The national\, juried exhibition highlights excellence in contemporary use of natural dyes. The distinguished juror Yoshiko Wada chose 47 works by 35 fiber artists from 14 different states for their merit as works of art and for the artistsâ€™ skillful knowledge of the chemistry of natural dyes. Also on exhibit a Winesong Preview exhibition and Robert Burridge paintings. Daily\, 10am to 5pm. Free admission. Reception: August 8\, 4pm to 8 pm. Mendocino Art Center\, 45200 Little Lake Street\, Mendocino. 707-937-5818. www.MendocinoArtCenter.org
X-ALT-DESC;FMTTYPE=text/html:<p>The Mendocino Art Center exhibits the Natural Dye Showcase\, August 3-28. The national\, juried exhibition highlights excellence in contemporary use of natural dyes. The distinguished juror Yoshiko Wada chose 47 works by 35 fiber artists from 14 different states for their merit as works of art and for the artistsâ€™ skillful knowledge of the chemistry of natural dyes. Also on exhibit a Winesong Preview exhibition and Robert Burridge paintings. Daily\, 10am to 5pm. Free admission. Reception: August 8\, 4pm to 8 pm. Mendocino Art Center\, 45200 Little Lake Street\, Mendocino. 707-937-5818. <a href="http://www.mendocinoartcenter.org/MyLasso/MainGallery-August-2015.lasso">www.MendocinoArtCenter.org</a></p>
LOCATION:CA Mendocino
UID:e.2883.701
SEQUENCE:3
DTSTAMP:20260422T064636Z
URL:https://mendocinocoast.com/events/details/mendocino-art-center-s-natural-dye-showcase-07-31-2015-701
END:VEVENT

END:VCALENDAR
