BEGIN:VCALENDAR
VERSION:2.0
PRODID:-//ChamberMaster//Event Calendar 2.0//EN
METHOD:PUBLISH
X-PUBLISHED-TTL:P3D
REFRESH-INTERVAL:P3D
CALSCALE:GREGORIAN
BEGIN:VEVENT
DTSTART:20141223T190000Z
DTEND:20141224T020000Z
X-MICROSOFT-CDO-ALLDAYEVENT:FALSE
SUMMARY:Mendocino Art Center's Members' Juried Exhibit
DESCRIPTION:Every January the Membersâ€™ Juried Exhibit features the finest works created by the Mendocino Art Center's contributing members. A highly competitive juried selection process leads to an exceptionally creative\, high quality\, and much anticipated gallery showing with a wide spectrum of artwork\, including paintings\, ceramics\, sculpture\, collage\, wearable art\, photography and more. Mendocino Coast artist Rosemary Allen juries this yearâ€™s exhibit.Free gallery reception: Saturday\, January 10\, 5 pm to 8 pm.Open daily\, 10 am to 5 pm.
X-ALT-DESC;FMTTYPE=text/html:<p>Every January the Membersâ€™ Juried Exhibit features the finest works created by the Mendocino Art Center's contributing members. A highly competitive juried selection process leads to an exceptionally creative\, high quality\, and much anticipated gallery showing with a wide spectrum of artwork\, including paintings\, ceramics\, sculpture\, collage\, wearable art\, photography and more. Mendocino Coast artist Rosemary Allen juries this yearâ€™s exhibit.</p><p>Free gallery reception: Saturday\, January 10\, 5 pm to 8 pm.</p><p>Open daily\, 10 am to 5 pm.</p>
LOCATION:Mendocino Art Center
UID:e.2883.409
SEQUENCE:3
DTSTAMP:20260422T200131Z
URL:https://mendocinocoast.com/events/details/mendocino-art-center-s-members-juried-exhibit-12-23-2014-409
END:VEVENT

END:VCALENDAR
