BEGIN:VCALENDAR
VERSION:2.0
PRODID:-//ChamberMaster//Event Calendar 2.0//EN
METHOD:PUBLISH
X-PUBLISHED-TTL:P3D
REFRESH-INTERVAL:P3D
CALSCALE:GREGORIAN
BEGIN:VEVENT
DTSTART:20160429T170000Z
DTEND:20160430T000000Z
X-MICROSOFT-CDO-ALLDAYEVENT:FALSE
SUMMARY:Mendocino Art Center's Members' Juried Exhibit
DESCRIPTION:The annual showing of the Membersâ€™ Juried Garden-Themed Exhibit features the finest works created by the Mendocino Art Centerâ€™s contributing members. A highly competitive juried selection process leads to an exceptionally creative\, high quality\, and much anticipated gallery showing with a wide spectrum of garden-themed artwork\, including paintings\, ceramics\, sculpture\, textiles\, photography and more. This year's exhibition is juried by Jacquelyn Cisper.Also on exhibit in May\, Jack da Silvaâ€™s â€œTangents\,â€ featuring metal works.more information
X-ALT-DESC;FMTTYPE=text/html:<p>The annual showing of the Membersâ€™ Juried Garden-Themed Exhibit features the finest works created by the Mendocino Art Centerâ€™s contributing members. A highly competitive juried selection process leads to an exceptionally creative\, high quality\, and much anticipated gallery showing with a wide spectrum of garden-themed artwork\, including paintings\, ceramics\, sculpture\, textiles\, photography and more. This year's exhibition is juried by Jacquelyn Cisper.</p><p>Also on exhibit in May\, Jack da Silvaâ€™s â€œTangents\,â€ featuring metal works.</p><p><a href="http://www.mendocinoartcenter.org" target="_blank">more information</a></p>
LOCATION:Mendocino Art Center
UID:e.2883.918
SEQUENCE:3
DTSTAMP:20260421T173727Z
URL:https://mendocinocoast.com/events/details/mendocino-art-center-s-members-juried-exhibit-04-29-2016-918
END:VEVENT

END:VCALENDAR
