BEGIN:VCALENDAR
VERSION:2.0
PRODID:-//ChamberMaster//Event Calendar 2.0//EN
METHOD:PUBLISH
X-PUBLISHED-TTL:P3D
REFRESH-INTERVAL:P3D
CALSCALE:GREGORIAN
BEGIN:VEVENT
DTSTART:20140324T170000Z
DTEND:20140325T000000Z
X-MICROSOFT-CDO-ALLDAYEVENT:FALSE
SUMMARY:Mendocino Art Center's Artists Open Studio Tours Exhibit
DESCRIPTION:Thirteen of the north coast's finest artists â€“ painters\, glass artists\, fiber artists\, sculptors and jewelers â€“ open their private art studios for a behind-the-scenes peek on this free\, self-guided tour along the beautiful Mendocino coast. Meet the artists\, watch demonstrations and see and buy original artwork direct from the artists. Free admission.Â There is an accompanying exhibit\, March 28 through April 30\, at the Mendocino Art Center\, featuring the artwork of the north coast artists who will be participating in the Artists Open Studio Tour.Â Download a Studio Tour Brochure/Map (PDF)http://www.mendocinoartcenter.org/PDF/studiotour.pdf.Â You may also pick up a Studio Tour Brochure/Map at the Mendocino Art Center and at Mendocino area shops\, visitor centers\, lodging establishments and more locations.Â More information about the artists\, artwork images and studio directions is available at:http://www.mendocinoartcenter.org/studiotourÂ
X-ALT-DESC;FMTTYPE=text/html:<p><span style="font-size:small\;">Thirteen of the north coast's finest artists â€“ painters\, glass artists\, fiber artists\, sculptors and jewelers â€“ open their private art studios for a behind-the-scenes peek on this free\, self-guided tour along the beautiful Mendocino coast. Meet the artists\, watch demonstrations and see and buy original artwork direct from the artists. Free admission.</span></p><p>Â </p><p><span style="font-size:small\;">There is an accompanying exhibit\, March 28 through April 30\, at the Mendocino Art Center\, featuring the artwork of the north coast artists who will be participating in the Artists Open Studio Tour.</span></p><p>Â </p><p><span style="font-size:small\;">Download a Studio Tour Brochure/Map (PDF)</span></p><p><span style="font-size:small\;"><a href="http://www.mendocinoartcenter.org/PDF/studiotour.pdf">http://www.mendocinoartcenter.org/PDF/studiotour.pdf</a>.</span></p><p>Â </p><p><span style="font-size:small\;">You may also pick up a Studio Tour Brochure/Map at the Mendocino Art Center and at Mendocino area shops\, visitor centers\, lodging establishments and more locations.</span></p><p>Â </p><p><span style="font-size:small\;">More information about the artists\, artwork images and studio directions is available at:</span></p><p><span style="font-size:small\;"><a href="http://www.mendocinoartcenter.org/studiotour">http://www.mendocinoartcenter.org/studiotour</a></span></p><p>Â </p>
LOCATION:Mendocino Art Center Mendocino & Fort Bragg
UID:e.2883.188
SEQUENCE:3
DTSTAMP:20260423T113945Z
URL:https://mendocinocoast.com/events/details/mendocino-art-center-s-artists-open-studio-tours-exhibit-03-24-2014-188
END:VEVENT

END:VCALENDAR
