BEGIN:VCALENDAR
VERSION:2.0
PRODID:-//ChamberMaster//Event Calendar 2.0//EN
METHOD:PUBLISH
X-PUBLISHED-TTL:P3D
REFRESH-INTERVAL:P3D
CALSCALE:GREGORIAN
BEGIN:VEVENT
DTSTART:20140324T170000Z
DTEND:20140325T000000Z
X-MICROSOFT-CDO-ALLDAYEVENT:FALSE
SUMMARY:Mendocino Art Center's Artists in Residence Exhibit
DESCRIPTION:Artwork by eight accomplished artists is showcased in the Mendocino Art Center's Artists in Residence Exhibit in the Main Gallery. This eagerly anticipated annual showing features a wide spectrum of new works â€“ ceramics\, fiber art\, jewelry\, and sculpture â€“ created by the artists during their residencies at the Mendocino Art Center.Â The featured artists in residence are Mary-Ellen Campbell\, New York\; Erin Fagen\, California\; Lizzie Helbig\, New Jersey\; Evan Hobart\, California\; Suzanne Lussier\, Montana\; Anthony Magnetti\, Utah\; Mickie McCormic\, California\; and Charles Williams\, Florida.Â Meet and mingle with the featured gallery artists\, and enjoy snacks\, wine and\, of course\, fabulous art at the free Second Saturday Gallery Reception\, Saturday\, April 12\, 5:00 p.m. to 8:00 p.m.
X-ALT-DESC;FMTTYPE=text/html:<p>Artwork by eight accomplished artists is showcased in the Mendocino Art Center's Artists in Residence Exhibit in the Main Gallery. This eagerly anticipated annual showing features a wide spectrum of new works â€“ ceramics\, fiber art\, jewelry\, and sculpture â€“ created by the artists during their residencies at the Mendocino Art Center.</p><p>Â </p><p>The featured artists in residence are Mary-Ellen Campbell\, New York\; Erin Fagen\, California\; Lizzie Helbig\, New Jersey\; Evan Hobart\, California\; Suzanne Lussier\, Montana\; Anthony Magnetti\, Utah\; Mickie McCormic\, California\; and Charles Williams\, Florida.</p><p>Â </p><p>Meet and mingle with the featured gallery artists\, and enjoy snacks\, wine and\, of course\, fabulous art at the free Second Saturday Gallery Reception\, Saturday\, April 12\, 5:00 p.m. to 8:00 p.m.</p>
LOCATION:Mendocino Art Center
UID:e.2883.185
SEQUENCE:3
DTSTAMP:20260423T114251Z
URL:https://mendocinocoast.com/events/details/mendocino-art-center-s-artists-in-residence-exhibit-03-24-2014-185
END:VEVENT

END:VCALENDAR
