BEGIN:VCALENDAR
VERSION:2.0
PRODID:-//ChamberMaster//Event Calendar 2.0//EN
METHOD:PUBLISH
X-PUBLISHED-TTL:P3D
REFRESH-INTERVAL:P3D
CALSCALE:GREGORIAN
BEGIN:VEVENT
DTSTART:20140812T170000Z
DTEND:20140813T000000Z
X-MICROSOFT-CDO-ALLDAYEVENT:FALSE
SUMMARY:Mendocino Art Center's 23rd Annual Mendocino Coast Garden Tour
DESCRIPTION:Enjoy a behind-the-scenes glimpse of a diverse selection of some of the Mendocino Coast's most beautiful private gardens on this self-guided tour. Also look for the return of the popular garden shop and plant sale\, a gourmet vegan lunch at the Stanford Inn's Ravens Restaurant and other fun garden-related activities.more information athttp://www.MendocinoArtCenter.org/Garden.html
X-ALT-DESC;FMTTYPE=text/html:<p><span style="font-size:medium\;">Enjoy a behind-the-scenes glimpse of a diverse selection of some of the Mendocino Coast's most beautiful private gardens on this self-guided tour. Also look for the return of the popular garden shop and plant sale\, a gourmet vegan lunch at the Stanford Inn's Ravens Restaurant and other fun garden-related activities.</span></p><p><span style="font-size:medium\;">more information at</span></p><p><span style="font-size:medium\;">http://www.MendocinoArtCenter.org/Garden.html</span></p>
LOCATION:Mendocino Art Center
UID:e.2883.307
SEQUENCE:3
DTSTAMP:20260423T011508Z
URL:https://mendocinocoast.com/events/details/mendocino-art-center-s-23rd-annual-mendocino-coast-garden-tour-08-12-2014-307
END:VEVENT

END:VCALENDAR
