BEGIN:VCALENDAR
VERSION:2.0
PRODID:-//ChamberMaster//Event Calendar 2.0//EN
METHOD:PUBLISH
X-PUBLISHED-TTL:P3D
REFRESH-INTERVAL:P3D
CALSCALE:GREGORIAN
BEGIN:VEVENT
DTSTART:20140731T200000Z
DTEND:20140801T003000Z
X-MICROSOFT-CDO-ALLDAYEVENT:FALSE
SUMMARY:Mendocino Art Center presents Wa no Kokoro - The Spirit of Japan
DESCRIPTION:WA NO KOKORO â€“ THE SPIRIT OF JAPANSaturday\, August 23\, 1 pm - 5:30 pmFree admissionÂ View art\, music and the food of Japan.Â View the Miasa Sister City Art Exchange Exhibit\, featuring artwork by nine artists from Miasa-Omachi\, Japan. Works include woodcraft\, ceramics\, glass\, textiles and more. Meet the artists\, watch artist presentations\, hear a haiku reading and enjoy a Bento box lunch.Â Karl Young will discuss the tradition of Shakuhachi flute and perform at 4 pm.Wa no kokoro is held in conjunction with the Miasa Sister City Art Exchange Exhibit at the Mendocino Art Center\, August 1 through September 5.\nSponsored by Sprindrift Gallery of Gualala and Sea Ranch.Â Â
X-ALT-DESC;FMTTYPE=text/html:<p><span style="font-size:small\;"><strong>WA NO KOKORO â€“ THE SPIRIT OF JAPAN</strong></span></p><p><span style="font-size:small\;"><strong>Saturday\, August 23\, 1 pm - 5:30 pm</strong></span></p><p><span style="font-size:small\;"><strong>Free admission</strong></span></p><p>Â </p><p><span style="font-size:small\;">View art\, music and the food of Japan.</span></p><p>Â </p><p><span style="font-size:small\;">View the <a href="http://www.mendocinoartcenter.org/MyLasso/MainGalleryAugust.lasso">Miasa Sister City Art Exchange Exhibit</a>\, featuring artwork by nine artists from Miasa-Omachi\, Japan. Works include woodcraft\, ceramics\, glass\, textiles and more. Meet the artists\, watch artist presentations\, hear a haiku reading and enjoy a Bento box lunch.</span></p><p>Â </p><p><span style="font-size:small\;">Karl Young will discuss the tradition of Shakuhachi flute and perform at 4 pm.</span></p><p><span style="font-size:small\;">Wa no kokoro is held in conjunction with the <a href="http://www.mendocinoartcenter.org/MyLasso/MainGalleryAugust.lasso">Miasa Sister City Art Exchange Exhibit</a> at the Mendocino Art Center\, August 1 through September 5.</span></p><p><span style="font-size:small\;"><br /></span></p><p><span style="font-size:small\;">Sponsored by Sprindrift Gallery of Gualala and Sea Ranch.</span></p><p>Â </p><p>Â </p>
LOCATION:Mendocino Art Center
UID:e.2883.298
SEQUENCE:3
DTSTAMP:20260423T023934Z
URL:https://mendocinocoast.com/events/details/mendocino-art-center-presents-wa-no-kokoro-the-spirit-of-japan-07-31-2014-298
END:VEVENT

END:VCALENDAR
